Workbook

Sheet Rekapitulace stavby
A1: Export Komplet | BA1: 2.0 | BT1: False | BU1: False | BV1: {896d06b6-9aca-45ee-9d7a-0439e64f0067}
AR2: >> skryté sloupce << | BS2: 0,1 | BT2: 21
BS3: 0,01 | BT3: 12
D4: REKAPITULACE STAVBY | AS4: v --- níže se nacházejí doplnkové a pomocné údaje k sestavám --- v | BS4: 0,1
D5: Kód: | K5: VP50058K | BS5: 0,1
D6: Stavba: | K6: Gymnázium Přelouč - odvětrání kanalizace, přeložka ZTI | BS6: 0,1
D7: KSO: | AK7: CC-CZ: | BS7: 0,1
D8: Místo: | AK8: Datum: | AN8: 1. 9. 2026 | BS8: 0,1
BS9: 0,1
D10: Zadavatel: | AK10: IČ: | BS10: 0,1
AK11: DIČ: | BS11: 0,1
BS12: 0,1
D13: Zhotovitel: | AK13: IČ: | AN13: 06671918 | BS13: 0,1
E14: Instal Hanousek s.r.o | AK14: DIČ: | AN14: CZ06671918 | BS14: 0,1
BS15: False
D16: Projektant: | AK16: IČ: | BS16: False
AK17: DIČ: | BS17: True
BS18: 0,01
D19: Zpracovatel: | AK19: IČ: | BS19: 0,01
E20: Kolisková Karolína | AK20: DIČ: | BS20: True
D22: Poznámka:
D26: Cena bez DPH | AK26: =ROUND(AG94,2) -> 0
L28: Sazba daně | W28: Základ daně | AK28: Výše daně
D29: DPH | F29: základní | L29: 0.21 | W29: =ROUND(AZ94, 2) -> 0 | AK29: =ROUND(AV94, 2) -> 0
F30: snížená | L30: 0.12 | W30: =ROUND(BA94, 2) -> 0 | AK30: =ROUND(AW94, 2) -> 0
F31: zákl. přenesená | L31: 0.21 | W31: =ROUND(BB94, 2) -> 0 | AK31: 0
F32: sníž. přenesená | L32: 0.12 | W32: =ROUND(BC94, 2) -> 0 | AK32: 0
F33: nulová | L33: 0 | W33: =ROUND(BD94, 2) -> 0 | AK33: 0
D35: Cena s DPH | T35: v | X35: CZK | AK35: =SUM(AK26:AK33) -> 0
D49: Projektant | AH49: Zpracovatel
D60: Datum a podpis: | V60: Razítko | AH60: Datum a podpis: | AM60: Razítko
D64: Objednavatel | AH64: Zhotovitel
D75: Datum a podpis: | V75: Razítko | AH75: Datum a podpis: | AM75: Razítko
C82: REKAPITULACE OBJEKTŮ STAVBY A SOUPISŮ PRACÍ
C84: Kód: | L84: =K5 -> VP50058K
C85: Stavba: | L85: =K6 -> Gymnázium Přelouč - odvětrání kanalizace, přeložka ZTI
C87: Místo: | L87: =IF(K8="","",K8) | AI87: Datum: | AM87: =IF(AN8= "","",AN8) -> 1. 9. 2026
C89: Zadavatel: | L89: =IF(E11= "","",E11) | AI89: Projektant: | AM89: =IF(E17="","",E17) | AS89: Informatívní údaje z listů zakázek
C90: Zhotovitel: | L90: =IF(E14="","",E14) -> Instal Hanousek s.r.o | AI90: Zpracovatel: | AM90: =IF(E20="","",E20) -> Kolisková Karolína
C92: Kód | I92: Popis | AG92: Cena bez DPH [CZK] | AN92: Cena s DPH [CZK] | AQ92: Typ | AS92: z toho Ostat. náklady [CZK] | AT92: DPH [CZK] | AU92: Normohodiny [h] | AV92: DPH základní [CZK] | AW92: DPH snížená [CZK] | AX92: DPH základní přenesená [CZK] | AY92: DPH snížená přenesená [CZK] | AZ92: Základna DPH základní | BA92: Základna DPH snížená | BB92: Základna DPH zákl. přenesená | BC92: Základna DPH sníž. přenesená | BD92: Základna DPH nulová
C94: Náklady z rozpočtů | AG94: =ROUND(AG95,2) -> 0 | AN94: =SUM(AG94,AT94) -> 0 | AS94: =ROUND(AS95,2) -> 0 | AT94: =ROUND(SUM(AV94:AW94),2) -> 0 | AU94: =ROUND(AU95,5) -> 1240.762 | AV94: =ROUND(AZ94*L29,2) -> 0 | AW94: =ROUND(BA94*L30,2) -> 0 | AX94: =ROUND(BB94*L29,2) -> 0 | AY94: =ROUND(BC94*L30,2) -> 0 | AZ94: =ROUND(AZ95,2) -> 0 | BA94: =ROUND(BA95,2) -> 0 | BB94: =ROUND(BB95,2) -> 0 | BC94: =ROUND(BC95,2) -> 0 | BD94: =ROUND(BD95,2) -> 0 | BS94: D | BT94: 0 | BV94: IMPORT | BW94: {896d06b6-9aca-45ee-9d7a-0439e64f0067} | BX94: {00000000-0000-0000-0000-000000000000}
A95: / | D95: VP50058K | J95: Gymnázium Přelouč - odvětrání kanalizace, přeložka ZTI | AG95: ='VP50058K - GYGR Přel...'!J28 -> 0 | AN95: =SUM(AG95,AT95) -> 0 | AQ95: STA | AS95: 0 | AT95: =ROUND(SUM(AV95:AW95),2) -> 0 | AU95: ='VP50058K - GYGR Přel...'!P118 -> 1240.762 | AV95: ='VP50058K - GYGR Přel...'!J31 -> 0 | AW95: ='VP50058K - GYGR Přel...'!J32 -> 0 | AX95: ='VP50058K - GYGR Přel...'!J33 -> 0 | AY95: ='VP50058K - GYGR Přel...'!J34 -> 0 | AZ95: ='VP50058K - GYGR Přel...'!F31 -> 0 | BA95: ='VP50058K - GYGR Přel...'!F32 -> 0 | BB95: ='VP50058K - GYGR Přel...'!F33 -> 0 | BC95: ='VP50058K - GYGR Přel...'!F34 -> 0 | BD95: ='VP50058K - GYGR Přel...'!F35 -> 0 | BT95: 1 | BU95: ###NOINSERT### | BV95: IMPORT | BW95: {896d06b6-9aca-45ee-9d7a-0439e64f0067} | BX95: {00000000-0000-0000-0000-000000000000}

Sheet VP50058K - GYGR Přel...
L2: >> skryté sloupce << | AT2: {896d06b6-9aca-45ee-9d7a-0439e64f0067}
AT3: 2
D4: Příloha č. 6: Položkový rozpočet - Výkaz výměr | M4: v --- níže se nacházejí doplnkové a pomocné údaje k sestavám --- v | AT4: False
D6: Stavba:
E7: Gymnázium a grafická SOŠ Přelouč - přeložka TZI a odvětrání kanalizace
D9: KSO: | I9: CC-CZ:
D10: Místo: | F10: Obránců míru 1025, Přelouč | I10: Datum:
D12: Zadavatel: | F12: Gymnázium a grafická SOŠ Přelouč | I12: IČ: | J12: =IF('Rekapitulace stavby'!AN10="","",'Rekapitulace stavby'!AN10)
E13: =IF('Rekapitulace stavby'!E11="","",'Rekapitulace stavby'!E11) | I13: DIČ: | J13: =IF('Rekapitulace stavby'!AN11="","",'Rekapitulace stavby'!AN11)
D15: Zhotovitel: | I15: IČ:
I16: DIČ:
D18: Projektant: | I18: IČ: | J18: =IF('Rekapitulace stavby'!AN16="","",'Rekapitulace stavby'!AN16)
E19: =IF('Rekapitulace stavby'!E17="","",'Rekapitulace stavby'!E17) | I19: DIČ: | J19: =IF('Rekapitulace stavby'!AN17="","",'Rekapitulace stavby'!AN17)
D21: Zpracovatel: | I21: IČ:
I22: DIČ:
D24: Poznámka:
D28: Cena bez DPH | J28: =ROUND(J118, 2) -> 0
F30: Základ daně | I30: Sazba daně | J30: Výše daně
D31: DPH | E31: základní | F31: =ROUND((SUM(BE118:BE178)), 2) -> 0 | I31: 0.21 | J31: =ROUND(((SUM(BE118:BE178))*I31), 2) -> 0
E32: snížená | F32: =ROUND((SUM(BF118:BF178)), 2) -> 0 | I32: 0.12 | J32: =ROUND(((SUM(BF118:BF178))*I32), 2) -> 0
E33: zákl. přenesená | F33: =ROUND((SUM(BG118:BG178)), 2) -> 0 | I33: 0.21 | J33: =0 -> 0
E34: sníž. přenesená | F34: =ROUND((SUM(BH118:BH178)), 2) -> 0 | I34: 0.12 | J34: =0 -> 0
E35: nulová | F35: =ROUND((SUM(BI118:BI178)), 2) -> 0 | I35: 0 | J35: =0 -> 0
D37: Cena s DPH | G37: v | H37: CZK | J37: =SUM(J28:J35) -> 0
D50: Projektant | G50: Zpracovatel
D61: Datum a podpis: | F61: Razítko | G61: Datum a podpis: | J61: Razítko
D65: Objednavatel | G65: Zhotovitel
D76: Datum a podpis: | F76: Razítko | G76: Datum a podpis: | J76: Razítko
C82: REKAPITULACE ČLENĚNÍ SOUPISU PRACÍ
C84: Stavba:
E85: =E7 -> Gymnázium a grafická SOŠ Přelouč - přeložka TZI a odvětrání kanalizace
C87: Místo: | F87: =F10 -> Obránců míru 1025, Přelouč | I87: Datum: | J87: =IF(J10="","",J10)
C89: Zadavatel: | F89: =E13 | I89: Projektant: | J89: =E19
C90: Zhotovitel: | F90: =IF(E16="","",E16) | I90: Zpracovatel: | J90: =E22 -> 0
C92: Kód dílu - Popis | J92: Cena celkem [CZK]
C94: Náklady ze soupisu prací | J94: =J118 -> 0 | AU94: -1
D95: PSV - Práce a dodávky PSV | J95: =J119 -> 0
D96: 721 - Zdravotechnika - vnitřní kanalizace | J96: =J120 -> 0
D97: 765 - Krytina skládaná | J97: =J129 -> 0
D98: 722 - Zdravotechnika - vnitřní vodovod | J98: =J137 -> 0
D99: 763 - Konstrukce suché výstavby | J99: =J170 -> 0
D100: 784 - Dokončovací práce - malby a tapety | J100: =J176 -> 0
C107: SOUPIS PRACÍ
C109: Stavba:
E110: =E7 -> Gymnázium a grafická SOŠ Přelouč - přeložka TZI a odvětrání kanalizace
C112: Místo: | F112: =F10 -> Obránců míru 1025, Přelouč | I112: Datum: | J112: =IF(J10="","",J10)
C114: Zadavatel: | F114: Gymnázium a grafická SOŠ Přelouč | I114: Projektant: | J114: =E19
C115: Zhotovitel: | F115: =IF(E16="","",E16) | I115: Zpracovatel: | J115: =E22 -> 0
C117: PČ | D117: Typ | E117: Kód | F117: Popis | G117: MJ | H117: Množství | I117: J.cena [CZK] | J117: Cena celkem [CZK] | K117: Cenová soustava | N117: DPH | O117: J. Nh [h] | P117: Nh celkem [h] | Q117: J. hmotnost [t] | R117: Hmotnost celkem [t] | S117: J. suť [t] | T117: Suť Celkem [t]
C118: Náklady soupisu celkem | J118: =BK118 -> 0 | P118: =P119 -> 1240.762 | R118: =R119 -> 5.155768 | T118: =T119 -> 13.03 | AT118: D | AU118: -1 | BK118: =BK119 -> 0
D119: D | E119: PSV | F119: Práce a dodávky PSV | J119: =BK119 -> 0 | P119: =P120+P129+P137+P170+P176 -> 1240.762 | R119: =R120+R129+R137+R170+R176 -> 5.155768 | T119: =T120+T129+T137+T170+T176 -> 13.03 | AR119: 2 | AT119: D | AU119: 0 | AY119: ROZPOCET | BK119: =BK120+BK129+BK137+BK170+BK176 -> 0
D120: D | E120: 721 | F120: Zdravotechnika - vnitřní kanalizace | J120: =BK120 -> 0 | P120: =SUM(P121:P128) -> 119.456 | R120: =SUM(R121:R128) -> 0.37577443 | T120: =SUM(T121:T128) -> 2.0088 | AR120: 2 | AT120: D | AU120: 1 | AY120: ROZPOCET | BK120: =SUM(BK121:BK128) -> 0
C121: 1 | D121: K | E121: 721160806 | F121: Demontáž stávajícího potrubí | G121: m | H121: 124 | J121: =ROUND(I121*H121,2) -> 0 | N121: základní | O121: 0.268 | P121: =O121*H121 -> 33.232 | Q121: 0 | R121: =Q121*H121 -> 0 | S121: 0.0162 | T121: =S121*H121 -> 2.0088 | AR121: 16 | AT121: K | AU121: 2 | AY121: ROZPOCET | BE121: =IF(N121="základní",J121,0) -> 0 | BF121: =IF(N121="snížená",J121,0) -> 0 | BG121: =IF(N121="zákl. přenesená",J121,0) -> 0 | BH121: =IF(N121="sníž. přenesená",J121,0) -> 0 | BI121: =IF(N121="nulová",J121,0) -> 0 | BJ121: 1 | BK121: =ROUND(I121*H121,2) -> 0 | BL121: 16 | BM121: 1338051966
C122: 2 | D122: K | E122: 721140916 | F122: Propojení potrubí DN 125 | G122: kus | H122: 19 | J122: =ROUND(I122*H122,2) -> 0 | N122: základní | O122: 1.168 | P122: =O122*H122 -> 22.192 | Q122: 0.00226497 | R122: =Q122*H122 -> 0.04303443 | S122: 0 | T122: =S122*H122 -> 0 | AR122: 16 | AT122: K | AU122: 2 | AY122: ROZPOCET | BE122: =IF(N122="základní",J122,0) -> 0 | BF122: =IF(N122="snížená",J122,0) -> 0 | BG122: =IF(N122="zákl. přenesená",J122,0) -> 0 | BH122: =IF(N122="sníž. přenesená",J122,0) -> 0 | BI122: =IF(N122="nulová",J122,0) -> 0 | BJ122: 1 | BK122: =ROUND(I122*H122,2) -> 0 | BL122: 16 | BM122: -308224745
C123: 3 | D123: K | E123: 721173747 | F123: Potrubí kanalizační větrací Geberit PE DN 125 | G123: m | H123: 124 | J123: =ROUND(I123*H123,2) -> 0 | N123: základní | O123: 0.468 | P123: =O123*H123 -> 58.032 | Q123: 0.002095 | R123: =Q123*H123 -> 0.25978 | S123: 0 | T123: =S123*H123 -> 0 | AR123: 16 | AT123: K | AU123: 2 | AY123: ROZPOCET | BE123: =IF(N123="základní",J123,0) -> 0 | BF123: =IF(N123="snížená",J123,0) -> 0 | BG123: =IF(N123="zákl. přenesená",J123,0) -> 0 | BH123: =IF(N123="sníž. přenesená",J123,0) -> 0 | BI123: =IF(N123="nulová",J123,0) -> 0 | BJ123: 1 | BK123: =ROUND(I123*H123,2) -> 0 | BL123: 16 | BM123: -617921832
C124: 4 | D124: M | E124: 721173747.R1 | F124: Koleno 125 45° | G124: ks | H124: 19 | J124: =ROUND(I124*H124,2) -> 0 | N124: základní | O124: 0 | P124: =O124*H124 -> 0 | Q124: 0.00192 | R124: =Q124*H124 -> 0.03648 | S124: 0 | T124: =S124*H124 -> 0 | AR124: 32 | AT124: M | AU124: 2 | AY124: ROZPOCET | BE124: =IF(N124="základní",J124,0) -> 0 | BF124: =IF(N124="snížená",J124,0) -> 0 | BG124: =IF(N124="zákl. přenesená",J124,0) -> 0 | BH124: =IF(N124="sníž. přenesená",J124,0) -> 0 | BI124: =IF(N124="nulová",J124,0) -> 0 | BJ124: 1 | BK124: =ROUND(I124*H124,2) -> 0 | BL124: 16 | BM124: -1610742079
C125: 5 | D125: M | E125: 721173747.R2 | F125: Redukce 100x125 | G125: ks | H125: 19 | J125: =ROUND(I125*H125,2) -> 0 | N125: základní | O125: 0 | P125: =O125*H125 -> 0 | Q125: 0.00192 | R125: =Q125*H125 -> 0.03648 | S125: 0 | T125: =S125*H125 -> 0 | AR125: 32 | AT125: M | AU125: 2 | AY125: ROZPOCET | BE125: =IF(N125="základní",J125,0) -> 0 | BF125: =IF(N125="snížená",J125,0) -> 0 | BG125: =IF(N125="zákl. přenesená",J125,0) -> 0 | BH125: =IF(N125="sníž. přenesená",J125,0) -> 0 | BI125: =IF(N125="nulová",J125,0) -> 0 | BJ125: 1 | BK125: =ROUND(I125*H125,2) -> 0 | BL125: 16 | BM125: 1485713541
C126: 6 | D126: K | E126: 721290111 | F126: Zkouška těsnosti potrubí kanalizace | G126: m | H126: 124 | J126: =ROUND(I126*H126,2) -> 0 | N126: základní | O126: 0.048 | P126: =O126*H126 -> 5.952 | Q126: 0 | R126: =Q126*H126 -> 0 | S126: 0 | T126: =S126*H126 -> 0 | AR126: 16 | AT126: K | AU126: 2 | AY126: ROZPOCET | BE126: =IF(N126="základní",J126,0) -> 0 | BF126: =IF(N126="snížená",J126,0) -> 0 | BG126: =IF(N126="zákl. přenesená",J126,0) -> 0 | BH126: =IF(N126="sníž. přenesená",J126,0) -> 0 | BI126: =IF(N126="nulová",J126,0) -> 0 | BJ126: 1 | BK126: =ROUND(I126*H126,2) -> 0 | BL126: 16 | BM126: 918062195
C127: 7 | D127: K | E127: 72129000R | F127: Nakládka a odvoz materiálu vč. uložení na skládku | G127: kpl | H127: 1 | J127: =ROUND(I127*H127,2) -> 0 | N127: základní | O127: 0.048 | P127: =O127*H127 -> 0.048 | Q127: 0 | R127: =Q127*H127 -> 0 | S127: 0 | T127: =S127*H127 -> 0 | AR127: 16 | AT127: K | AU127: 2 | AY127: ROZPOCET | BE127: =IF(N127="základní",J127,0) -> 0 | BF127: =IF(N127="snížená",J127,0) -> 0 | BG127: =IF(N127="zákl. přenesená",J127,0) -> 0 | BH127: =IF(N127="sníž. přenesená",J127,0) -> 0 | BI127: =IF(N127="nulová",J127,0) -> 0 | BJ127: 1 | BK127: =ROUND(I127*H127,2) -> 0 | BL127: 16 | BM127: 1938950823
C128: 8 | D128: K | E128: 998721312 | F128: Přesun hmot procentní pro vnitřní kanalizaci ruční v objektech v přes 6 do 12 m | G128: % | H128: 2423.2 | J128: =ROUND(I128*H128,2) -> 0 | N128: základní | O128: 0 | P128: =O128*H128 -> 0 | Q128: 0 | R128: =Q128*H128 -> 0 | S128: 0 | T128: =S128*H128 -> 0 | AR128: 16 | AT128: K | AU128: 2 | AY128: ROZPOCET | BE128: =IF(N128="základní",J128,0) -> 0 | BF128: =IF(N128="snížená",J128,0) -> 0 | BG128: =IF(N128="zákl. přenesená",J128,0) -> 0 | BH128: =IF(N128="sníž. přenesená",J128,0) -> 0 | BI128: =IF(N128="nulová",J128,0) -> 0 | BJ128: 1 | BK128: =ROUND(I128*H128,2) -> 0 | BL128: 16 | BM128: 2083693985
D129: D | E129: 765 | F129: Krytina skládaná | J129: =BK129 -> 0 | P129: =SUM(P130:P136) -> 0 | R129: =SUM(R130:R136) -> 0 | T129: =SUM(T130:T136) -> 0 | AR129: 2 | AT129: D | AU129: 1 | AY129: ROZPOCET | BK129: =SUM(BK130:BK136) -> 0
C130: 9 | D130: K | E130: 765111803 | F130: Demontáž střešní krytiny | G130: m2 | H130: 19 | J130: =ROUND(I130*H130,2) -> 0 | N130: základní | O130: 0 | P130: =O130*H130 -> 0 | Q130: 0 | R130: =Q130*H130 -> 0 | S130: 0 | T130: =S130*H130 -> 0 | AR130: 16 | AT130: K | AU130: 2 | AY130: ROZPOCET | BE130: =IF(N130="základní",J130,0) -> 0 | BF130: =IF(N130="snížená",J130,0) -> 0 | BG130: =IF(N130="zákl. přenesená",J130,0) -> 0 | BH130: =IF(N130="sníž. přenesená",J130,0) -> 0 | BI130: =IF(N130="nulová",J130,0) -> 0 | BJ130: 1 | BK130: =ROUND(I130*H130,2) -> 0 | BL130: 16 | BM130: -157461709
C131: 10 | D131: K | E131: 765111017 | F131: Zpětná montáž střešní krytiny | G131: m2 | H131: 19 | J131: =ROUND(I131*H131,2) -> 0 | N131: základní | O131: 0 | P131: =O131*H131 -> 0 | Q131: 0 | R131: =Q131*H131 -> 0 | S131: 0 | T131: =S131*H131 -> 0 | AR131: 16 | AT131: K | AU131: 2 | AY131: ROZPOCET | BE131: =IF(N131="základní",J131,0) -> 0 | BF131: =IF(N131="snížená",J131,0) -> 0 | BG131: =IF(N131="zákl. přenesená",J131,0) -> 0 | BH131: =IF(N131="sníž. přenesená",J131,0) -> 0 | BI131: =IF(N131="nulová",J131,0) -> 0 | BJ131: 1 | BK131: =ROUND(I131*H131,2) -> 0 | BL131: 16 | BM131: -167663066
C132: 11 | D132: K | E132: 765111000R | F132: Montáž odvětrávacího střešního komínu | G132: ks | H132: 19 | J132: =ROUND(I132*H132,2) -> 0 | N132: základní | O132: 0 | P132: =O132*H132 -> 0 | Q132: 0 | R132: =Q132*H132 -> 0 | S132: 0 | T132: =S132*H132 -> 0 | AR132: 16 | AT132: K | AU132: 2 | AY132: ROZPOCET | BE132: =IF(N132="základní",J132,0) -> 0 | BF132: =IF(N132="snížená",J132,0) -> 0 | BG132: =IF(N132="zákl. přenesená",J132,0) -> 0 | BH132: =IF(N132="sníž. přenesená",J132,0) -> 0 | BI132: =IF(N132="nulová",J132,0) -> 0 | BJ132: 1 | BK132: =ROUND(I132*H132,2) -> 0 | BL132: 16 | BM132: -1621204990
C133: 12 | D133: M | E133: 765111001R | F133: Odvětrávací střešní komín | G133: ks | H133: 19 | J133: =ROUND(I133*H133,2) -> 0 | N133: základní | O133: 0 | P133: =O133*H133 -> 0 | Q133: 0 | R133: =Q133*H133 -> 0 | S133: 0 | T133: =S133*H133 -> 0 | AR133: 32 | AT133: M | AU133: 2 | AY133: ROZPOCET | BE133: =IF(N133="základní",J133,0) -> 0 | BF133: =IF(N133="snížená",J133,0) -> 0 | BG133: =IF(N133="zákl. přenesená",J133,0) -> 0 | BH133: =IF(N133="sníž. přenesená",J133,0) -> 0 | BI133: =IF(N133="nulová",J133,0) -> 0 | BJ133: 1 | BK133: =ROUND(I133*H133,2) -> 0 | BL133: 16 | BM133: 1828825572
C134: 13 | D134: M | E134: 765111002R | F134: Redukce a připojení pro větrací komín | G134: ks | H134: 19 | J134: =ROUND(I134*H134,2) -> 0 | N134: základní | O134: 0 | P134: =O134*H134 -> 0 | Q134: 0 | R134: =Q134*H134 -> 0 | S134: 0 | T134: =S134*H134 -> 0 | AR134: 32 | AT134: M | AU134: 2 | AY134: ROZPOCET | BE134: =IF(N134="základní",J134,0) -> 0 | BF134: =IF(N134="snížená",J134,0) -> 0 | BG134: =IF(N134="zákl. přenesená",J134,0) -> 0 | BH134: =IF(N134="sníž. přenesená",J134,0) -> 0 | BI134: =IF(N134="nulová",J134,0) -> 0 | BJ134: 1 | BK134: =ROUND(I134*H134,2) -> 0 | BL134: 16 | BM134: 955438632
C135: 14 | D135: M | E135: 7650000R | F135: Lešení - 3 m | G135: kpl | H135: 1 | J135: =ROUND(I135*H135,2) -> 0 | N135: základní | O135: 0 | P135: =O135*H135 -> 0 | Q135: 0 | R135: =Q135*H135 -> 0 | S135: 0 | T135: =S135*H135 -> 0 | AR135: 32 | AT135: M | AU135: 2 | AY135: ROZPOCET | BE135: =IF(N135="základní",J135,0) -> 0 | BF135: =IF(N135="snížená",J135,0) -> 0 | BG135: =IF(N135="zákl. přenesená",J135,0) -> 0 | BH135: =IF(N135="sníž. přenesená",J135,0) -> 0 | BI135: =IF(N135="nulová",J135,0) -> 0 | BJ135: 1 | BK135: =ROUND(I135*H135,2) -> 0 | BL135: 16 | BM135: 333358418
C136: 15 | D136: K | E136: 998765312 | F136: Přesun hmot procentní pro krytiny skládané ruční v objektech v přes 6 do 12 m | G136: % | H136: 966.8 | J136: =ROUND(I136*H136,2) -> 0 | N136: základní | O136: 0 | P136: =O136*H136 -> 0 | Q136: 0 | R136: =Q136*H136 -> 0 | S136: 0 | T136: =S136*H136 -> 0 | AR136: 16 | AT136: K | AU136: 2 | AY136: ROZPOCET | BE136: =IF(N136="základní",J136,0) -> 0 | BF136: =IF(N136="snížená",J136,0) -> 0 | BG136: =IF(N136="zákl. přenesená",J136,0) -> 0 | BH136: =IF(N136="sníž. přenesená",J136,0) -> 0 | BI136: =IF(N136="nulová",J136,0) -> 0 | BJ136: 1 | BK136: =ROUND(I136*H136,2) -> 0 | BL136: 16 | BM136: 679720312
D137: D | E137: 722 | F137: Zdravotechnika - vnitřní vodovod | J137: =BK137 -> 0 | P137: =SUM(P138:P169) -> 913.87 | R137: =SUM(R138:R169) -> 3.6152611 | T137: =SUM(T138:T169) -> 11.0212 | AR137: 2 | AT137: D | AU137: 1 | AY137: ROZPOCET | BK137: =SUM(BK138:BK169) -> 0
C138: 16 | D138: K | E138: 722190901 | F138: Uzavření nebo otevření vodovodního potrubí při opravách | G138: kpl | H138: 1 | J138: =ROUND(I138*H138,2) -> 0 | N138: základní | O138: 0.165 | P138: =O138*H138 -> 0.165 | Q138: 0 | R138: =Q138*H138 -> 0 | S138: 0 | T138: =S138*H138 -> 0 | AR138: 16 | AT138: K | AU138: 2 | AY138: ROZPOCET | BE138: =IF(N138="základní",J138,0) -> 0 | BF138: =IF(N138="snížená",J138,0) -> 0 | BG138: =IF(N138="zákl. přenesená",J138,0) -> 0 | BH138: =IF(N138="sníž. přenesená",J138,0) -> 0 | BI138: =IF(N138="nulová",J138,0) -> 0 | BJ138: 1 | BK138: =ROUND(I138*H138,2) -> 0 | BL138: 16 | BM138: -184818045
C139: 17 | D139: K | E139: 722130919 | F139: Potrubí pozinkované závitové - přeřezání trubky | G139: kus | H139: 80 | J139: =ROUND(I139*H139,2) -> 0 | N139: základní | O139: 0.163 | P139: =O139*H139 -> 13.04 | Q139: 0 | R139: =Q139*H139 -> 0 | S139: 0 | T139: =S139*H139 -> 0 | AR139: 16 | AT139: K | AU139: 2 | AY139: ROZPOCET | BE139: =IF(N139="základní",J139,0) -> 0 | BF139: =IF(N139="snížená",J139,0) -> 0 | BG139: =IF(N139="zákl. přenesená",J139,0) -> 0 | BH139: =IF(N139="sníž. přenesená",J139,0) -> 0 | BI139: =IF(N139="nulová",J139,0) -> 0 | BJ139: 1 | BK139: =ROUND(I139*H139,2) -> 0 | BL139: 16 | BM139: -1315739481
C140: 18 | D140: K | E140: 722130804 | F140: Demontáž stávajícího potrubí potrubí | G140: m | H140: 1035 | J140: =ROUND(I140*H140,2) -> 0 | N140: základní | O140: 0.256 | P140: =O140*H140 -> 264.96 | Q140: 0 | R140: =Q140*H140 -> 0 | S140: 0.00959 | T140: =S140*H140 -> 9.92565 | AR140: 16 | AT140: K | AU140: 2 | AY140: ROZPOCET | BE140: =IF(N140="základní",J140,0) -> 0 | BF140: =IF(N140="snížená",J140,0) -> 0 | BG140: =IF(N140="zákl. přenesená",J140,0) -> 0 | BH140: =IF(N140="sníž. přenesená",J140,0) -> 0 | BI140: =IF(N140="nulová",J140,0) -> 0 | BJ140: 1 | BK140: =ROUND(I140*H140,2) -> 0 | BL140: 16 | BM140: 1571242074
C141: 19 | D141: K | E141: 722181852 | F141: Demontáž izolace | G141: m | H141: 1035 | J141: =ROUND(I141*H141,2) -> 0 | N141: základní | O141: 0.217 | P141: =O141*H141 -> 224.595 | Q141: 0 | R141: =Q141*H141 -> 0 | S141: 0.00034 | T141: =S141*H141 -> 0.3519 | AR141: 16 | AT141: K | AU141: 2 | AY141: ROZPOCET | BE141: =IF(N141="základní",J141,0) -> 0 | BF141: =IF(N141="snížená",J141,0) -> 0 | BG141: =IF(N141="zákl. přenesená",J141,0) -> 0 | BH141: =IF(N141="sníž. přenesená",J141,0) -> 0 | BI141: =IF(N141="nulová",J141,0) -> 0 | BJ141: 1 | BK141: =ROUND(I141*H141,2) -> 0 | BL141: 16 | BM141: -781846856
C142: 20 | D142: K | E142: 722181800R | F142: Demontáž zámečnických prvků | G142: kpl | H142: 1 | J142: =ROUND(I142*H142,2) -> 0 | N142: základní | O142: 0.217 | P142: =O142*H142 -> 0.217 | Q142: 0 | R142: =Q142*H142 -> 0 | S142: 0.00034 | T142: =S142*H142 -> 0.00034 | AR142: 16 | AT142: K | AU142: 2 | AY142: ROZPOCET | BE142: =IF(N142="základní",J142,0) -> 0 | BF142: =IF(N142="snížená",J142,0) -> 0 | BG142: =IF(N142="zákl. přenesená",J142,0) -> 0 | BH142: =IF(N142="sníž. přenesená",J142,0) -> 0 | BI142: =IF(N142="nulová",J142,0) -> 0 | BJ142: 1 | BK142: =ROUND(I142*H142,2) -> 0 | BL142: 16 | BM142: 207810190
C143: 21 | D143: K | E143: 725530826 | F143: Demontáž ohřívače | G143: soubor | H143: 1 | J143: =ROUND(I143*H143,2) -> 0 | N143: základní | O143: 2.699 | P143: =O143*H143 -> 2.699 | Q143: 0 | R143: =Q143*H143 -> 0 | S143: 0.69347 | T143: =S143*H143 -> 0.69347 | AR143: 16 | AT143: K | AU143: 2 | AY143: ROZPOCET | BE143: =IF(N143="základní",J143,0) -> 0 | BF143: =IF(N143="snížená",J143,0) -> 0 | BG143: =IF(N143="zákl. přenesená",J143,0) -> 0 | BH143: =IF(N143="sníž. přenesená",J143,0) -> 0 | BI143: =IF(N143="nulová",J143,0) -> 0 | BJ143: 1 | BK143: =ROUND(I143*H143,2) -> 0 | BL143: 16 | BM143: 2110142422
C144: 22 | D144: K | E144: 722171937 | F144: Potrubí plastové - propojení potrubí | G144: kus | H144: 12 | J144: =ROUND(I144*H144,2) -> 0 | N144: základní | O144: 0.481 | P144: =O144*H144 -> 5.772 | Q144: 3.2e-05 | R144: =Q144*H144 -> 0.000384 | S144: 0.00172 | T144: =S144*H144 -> 0.02064 | AR144: 16 | AT144: K | AU144: 2 | AY144: ROZPOCET | BE144: =IF(N144="základní",J144,0) -> 0 | BF144: =IF(N144="snížená",J144,0) -> 0 | BG144: =IF(N144="zákl. přenesená",J144,0) -> 0 | BH144: =IF(N144="sníž. přenesená",J144,0) -> 0 | BI144: =IF(N144="nulová",J144,0) -> 0 | BJ144: 1 | BK144: =ROUND(I144*H144,2) -> 0 | BL144: 16 | BM144: 1930403633
C145: 23 | D145: K | E145: 722171939 | F145: Potrubí pozink - propojení potrubí | G145: kus | H145: 10 | J145: =ROUND(I145*H145,2) -> 0 | N145: základní | O145: 0.898 | P145: =O145*H145 -> 8.98 | Q145: 5e-05 | R145: =Q145*H145 -> 0.0005 | S145: 0.00292 | T145: =S145*H145 -> 0.0292 | AR145: 16 | AT145: K | AU145: 2 | AY145: ROZPOCET | BE145: =IF(N145="základní",J145,0) -> 0 | BF145: =IF(N145="snížená",J145,0) -> 0 | BG145: =IF(N145="zákl. přenesená",J145,0) -> 0 | BH145: =IF(N145="sníž. přenesená",J145,0) -> 0 | BI145: =IF(N145="nulová",J145,0) -> 0 | BJ145: 1 | BK145: =ROUND(I145*H145,2) -> 0 | BL145: 16 | BM145: 475077728
C146: 24 | D146: K | E146: 722130238 | F146: Potrubí vodovodn pozinkované DN 80 | G146: m | H146: 248 | J146: =ROUND(I146*H146,2) -> 0 | N146: základní | O146: 0.794 | P146: =O146*H146 -> 196.912 | Q146: 0.01088368 | R146: =Q146*H146 -> 2.6991526 | S146: 0 | T146: =S146*H146 -> 0 | AR146: 16 | AT146: K | AU146: 2 | AY146: ROZPOCET | BE146: =IF(N146="základní",J146,0) -> 0 | BF146: =IF(N146="snížená",J146,0) -> 0 | BG146: =IF(N146="zákl. přenesená",J146,0) -> 0 | BH146: =IF(N146="sníž. přenesená",J146,0) -> 0 | BI146: =IF(N146="nulová",J146,0) -> 0 | BJ146: 1 | BK146: =ROUND(I146*H146,2) -> 0 | BL146: 16 | BM146: 1538761598
C147: 25 | D147: M | E147: 722130238.1 | F147: POZ koleno DN 80 | G147: ks | H147: 10 | J147: =ROUND(I147*H147,2) -> 0 | N147: základní | O147: 0 | P147: =O147*H147 -> 0 | Q147: 0.01088 | R147: =Q147*H147 -> 0.1088 | S147: 0 | T147: =S147*H147 -> 0 | AR147: 32 | AT147: M | AU147: 2 | AY147: ROZPOCET | BE147: =IF(N147="základní",J147,0) -> 0 | BF147: =IF(N147="snížená",J147,0) -> 0 | BG147: =IF(N147="zákl. přenesená",J147,0) -> 0 | BH147: =IF(N147="sníž. přenesená",J147,0) -> 0 | BI147: =IF(N147="nulová",J147,0) -> 0 | BJ147: 1 | BK147: =ROUND(I147*H147,2) -> 0 | BL147: 16 | BM147: 1887344101
C148: 26 | D148: M | E148: 722130238.2 | F148: POZ T-kus DN 80 | G148: ks | H148: 4 | J148: =ROUND(I148*H148,2) -> 0 | N148: základní | O148: 0 | P148: =O148*H148 -> 0 | Q148: 0.01088 | R148: =Q148*H148 -> 0.04352 | S148: 0 | T148: =S148*H148 -> 0 | AR148: 32 | AT148: M | AU148: 2 | AY148: ROZPOCET | BE148: =IF(N148="základní",J148,0) -> 0 | BF148: =IF(N148="snížená",J148,0) -> 0 | BG148: =IF(N148="zákl. přenesená",J148,0) -> 0 | BH148: =IF(N148="sníž. přenesená",J148,0) -> 0 | BI148: =IF(N148="nulová",J148,0) -> 0 | BJ148: 1 | BK148: =ROUND(I148*H148,2) -> 0 | BL148: 16 | BM148: -475710535
C149: 27 | D149: K | E149: 722174002 | F149: Potrubí vodovodní plastové PPR D 20 | G149: m | H149: 20 | J149: =ROUND(I149*H149,2) -> 0 | N149: základní | O149: 0.556 | P149: =O149*H149 -> 11.12 | Q149: 0.00080295 | R149: =Q149*H149 -> 0.016059 | S149: 0 | T149: =S149*H149 -> 0 | AR149: 16 | AT149: K | AU149: 2 | AY149: ROZPOCET | BE149: =IF(N149="základní",J149,0) -> 0 | BF149: =IF(N149="snížená",J149,0) -> 0 | BG149: =IF(N149="zákl. přenesená",J149,0) -> 0 | BH149: =IF(N149="sníž. přenesená",J149,0) -> 0 | BI149: =IF(N149="nulová",J149,0) -> 0 | BJ149: 1 | BK149: =ROUND(I149*H149,2) -> 0 | BL149: 16 | BM149: -391266751
... C169: 47 | D169: K | E169: 998722311 | F169: Přesun hmot procentní pro vnitřní vodovod ruční v objektech v do 6 m | G169: % | H169: 19485.8 | J169: =ROUND(I169*H169,2) -> 0 | N169: základní | O169: 0 | P169: =O169*H169 -> 0 | Q169: 0 | R169: =Q169*H169 -> 0 | S169: 0 | T169: =S169*H169 -> 0 | AR169: 16 | AT169: K | AU169: 2 | AY169: ROZPOCET | BE169: =IF(N169="základní",J169,0) -> 0 | BF169: =IF(N169="snížená",J169,0) -> 0 | BG169: =IF(N169="zákl. přenesená",J169,0) -> 0 | BH169: =IF(N169="sníž. přenesená",J169,0) -> 0 | BI169: =IF(N169="nulová",J169,0) -> 0 | BJ169: 1 | BK169: =ROUND(I169*H169,2) -> 0 | BL169: 16 | BM169: 1590078474
D170: D | E170: 763 | F170: Konstrukce suché výstavby | J170: =BK170 -> 0 | P170: =SUM(P171:P175) -> 207.436 | R170: =SUM(R171:R175) -> 1.1647324 | T170: =SUM(T171:T175) -> 0 | AR170: 2 | AT170: D | AU170: 1 | AY170: ROZPOCET | BK170: =SUM(BK171:BK175) -> 0
C171: 48 | D171: K | E171: 763131411 | F171: SDK podhled desky 1xA 12,5 bez izolace kce profil CD+UD | G171: m2 | H171: 64.5 | J171: =ROUND(I171*H171,2) -> 0 | N171: základní | O171: 0.968 | P171: =O171*H171 -> 62.436 | Q171: 0.0122 | R171: =Q171*H171 -> 0.7869 | S171: 0 | T171: =S171*H171 -> 0 | AR171: 16 | AT171: K | AU171: 2 | AY171: ROZPOCET | BE171: =IF(N171="základní",J171,0) -> 0 | BF171: =IF(N171="snížená",J171,0) -> 0 | BG171: =IF(N171="zákl. přenesená",J171,0) -> 0 | BH171: =IF(N171="sníž. přenesená",J171,0) -> 0 | BI171: =IF(N171="nulová",J171,0) -> 0 | BJ171: 1 | BK171: =ROUND(I171*H171,2) -> 0 | BL171: 16 | BM171: 1743501456
C172: 49 | D172: K | E172: 763131714 | F172: SDK podhled základní penetrační nátěr | G172: m2 | H172: 64.5 | J172: =ROUND(I172*H172,2) -> 0 | N172: základní | O172: 0.04 | P172: =O172*H172 -> 2.58 | Q172: 0.0001 | R172: =Q172*H172 -> 0.00645 | S172: 0 | T172: =S172*H172 -> 0 | AR172: 16 | AT172: K | AU172: 2 | AY172: ROZPOCET | BE172: =IF(N172="základní",J172,0) -> 0 | BF172: =IF(N172="snížená",J172,0) -> 0 | BG172: =IF(N172="zákl. přenesená",J172,0) -> 0 | BH172: =IF(N172="sníž. přenesená",J172,0) -> 0 | BI172: =IF(N172="nulová",J172,0) -> 0 | BJ172: 1 | BK172: =ROUND(I172*H172,2) -> 0 | BL172: 16 | BM172: 1833846402
C173: 50 | D173: K | E173: 763131771.R1 | F173: SDK podhled - tmelení | G173: m2 | H173: 64.5 | J173: =ROUND(I173*H173,2) -> 0 | N173: základní | O173: 0.12 | P173: =O173*H173 -> 7.74 | Q173: 0.0007 | R173: =Q173*H173 -> 0.04515 | S173: 0 | T173: =S173*H173 -> 0 | AR173: 16 | AT173: K | AU173: 2 | AY173: ROZPOCET | BE173: =IF(N173="základní",J173,0) -> 0 | BF173: =IF(N173="snížená",J173,0) -> 0 | BG173: =IF(N173="zákl. přenesená",J173,0) -> 0 | BH173: =IF(N173="sníž. přenesená",J173,0) -> 0 | BI173: =IF(N173="nulová",J173,0) -> 0 | BJ173: 1 | BK173: =ROUND(I173*H173,2) -> 0 | BL173: 16 | BM173: -1743312538
C174: 51 | D174: K | E174: 763135101 | F174: SDK kazetového podhledu z kazet 600x600 mm na zavěšenou viditelnou nosnou konstrukci | G174: m2 | H174: 260 | J174: =ROUND(I174*H174,2) -> 0 | N174: základní | O174: 0.518 | P174: =O174*H174 -> 134.68 | Q174: 0.00125474 | R174: =Q174*H174 -> 0.3262324 | S174: 0 | T174: =S174*H174 -> 0 | AR174: 16 | AT174: K | AU174: 2 | AY174: ROZPOCET | BE174: =IF(N174="základní",J174,0) -> 0 | BF174: =IF(N174="snížená",J174,0) -> 0 | BG174: =IF(N174="zákl. přenesená",J174,0) -> 0 | BH174: =IF(N174="sníž. přenesená",J174,0) -> 0 | BI174: =IF(N174="nulová",J174,0) -> 0 | BJ174: 1 | BK174: =ROUND(I174*H174,2) -> 0 | BL174: 16 | BM174: -1734683000
C175: 52 | D175: K | E175: 998763511 | F175: Přesun hmot procentní pro konstrukce montované z desek ruční v objektech v do 6 m | G175: % | H175: 4948.2 | J175: =ROUND(I175*H175,2) -> 0 | N175: základní | O175: 0 | P175: =O175*H175 -> 0 | Q175: 0 | R175: =Q175*H175 -> 0 | S175: 0 | T175: =S175*H175 -> 0 | AR175: 16 | AT175: K | AU175: 2 | AY175: ROZPOCET | BE175: =IF(N175="základní",J175,0) -> 0 | BF175: =IF(N175="snížená",J175,0) -> 0 | BG175: =IF(N175="zákl. přenesená",J175,0) -> 0 | BH175: =IF(N175="sníž. přenesená",J175,0) -> 0 | BI175: =IF(N175="nulová",J175,0) -> 0 | BJ175: 1 | BK175: =ROUND(I175*H175,2) -> 0 | BL175: 16 | BM175: -841282517
D176: D | E176: 784 | F176: Dokončovací práce - malby a tapety | J176: =BK176 -> 0 | P176: =SUM(P177:P178) -> 0 | R176: =SUM(R177:R178) -> 0 | T176: =SUM(T177:T178) -> 0 | AR176: 2 | AT176: D | AU176: 1 | AY176: ROZPOCET | BK176: =SUM(BK177:BK178) -> 0
C177: 53 | D177: K | E177: 784181001 | F177: Penetrační nátěr | G177: m2 | H177: 64.5 | J177: =ROUND(I177*H177,2) -> 0 | N177: základní | O177: 0 | P177: =O177*H177 -> 0 | Q177: 0 | R177: =Q177*H177 -> 0 | S177: 0 | T177: =S177*H177 -> 0 | AR177: 16 | AT177: K | AU177: 2 | AY177: ROZPOCET | BE177: =IF(N177="základní",J177,0) -> 0 | BF177: =IF(N177="snížená",J177,0) -> 0 | BG177: =IF(N177="zákl. přenesená",J177,0) -> 0 | BH177: =IF(N177="sníž. přenesená",J177,0) -> 0 | BI177: =IF(N177="nulová",J177,0) -> 0 | BJ177: 1 | BK177: =ROUND(I177*H177,2) -> 0 | BL177: 16 | BM177: -420227787
C178: 54 | D178: K | E178: 784211101 | F178: Dvojnásobné bílé malby v místnostech | G178: m2 | H178: 64.5 | J178: =ROUND(I178*H178,2) -> 0 | N178: základní | O178: 0 | P178: =O178*H178 -> 0 | Q178: 0 | R178: =Q178*H178 -> 0 | S178: 0 | T178: =S178*H178 -> 0 | AR178: 16 | AT178: K | AU178: 2 | AY178: ROZPOCET | BE178: =IF(N178="základní",J178,0) -> 0 | BF178: =IF(N178="snížená",J178,0) -> 0 | BG178: =IF(N178="zákl. přenesená",J178,0) -> 0 | BH178: =IF(N178="sníž. přenesená",J178,0) -> 0 | BI178: =IF(N178="nulová",J178,0) -> 0 | BJ178: 1 | BK178: =ROUND(I178*H178,2) -> 0 | BL178: 16 | BM178: 920478315
