Workbook

Sheet Rekapitulace stavby
A1: Export Komplet | BA1: 2.0 | BT1: False | BU1: False | BV1: {896d06b6-9aca-45ee-9d7a-0439e64f0067}
AR2: >> skryté sloupce << | BS2: 0,1 | BT2: 21
BS3: 0,01 | BT3: 12
D4: REKAPITULACE STAVBY | AS4: v --- níže se nacházejí doplnkové a pomocné údaje k sestavám --- v | BS4: 0,1
D5: Kód: | K5: VP50058K | BS5: 0,1
D6: Stavba: | K6: Gymnázium Přelouč - odvětrání kanalizace, přeložka ZTI | BS6: 0,1
D7: KSO: | AK7: CC-CZ: | BS7: 0,1
D8: Místo: | AK8: Datum: | AN8: 1. 9. 2026 | BS8: 0,1
BS9: 0,1
D10: Zadavatel: | AK10: IČ: | BS10: 0,1
AK11: DIČ: | BS11: 0,1
BS12: 0,1
D13: Zhotovitel: | AK13: IČ: | AN13: 06671918 | BS13: 0,1
E14: Instal Hanousek s.r.o | AK14: DIČ: | AN14: CZ06671918 | BS14: 0,1
BS15: False
D16: Projektant: | AK16: IČ: | BS16: False
AK17: DIČ: | BS17: True
BS18: 0,01
D19: Zpracovatel: | AK19: IČ: | BS19: 0,01
E20: Kolisková Karolína | AK20: DIČ: | BS20: True
D22: Poznámka:
D26: Cena bez DPH | AK26: =ROUND(AG94,2) -> 0
L28: Sazba daně | W28: Základ daně | AK28: Výše daně
D29: DPH | F29: základní | L29: 0.21 | W29: =ROUND(AZ94, 2) -> 0 | AK29: =ROUND(AV94, 2) -> 0
F30: snížená | L30: 0.12 | W30: =ROUND(BA94, 2) -> 0 | AK30: =ROUND(AW94, 2) -> 0
F31: zákl. přenesená | L31: 0.21 | W31: =ROUND(BB94, 2) -> 0 | AK31: 0
F32: sníž. přenesená | L32: 0.12 | W32: =ROUND(BC94, 2) -> 0 | AK32: 0
F33: nulová | L33: 0 | W33: =ROUND(BD94, 2) -> 0 | AK33: 0
D35: Cena s DPH | T35: v | X35: CZK | AK35: =SUM(AK26:AK33) -> 0
D49: Projektant | AH49: Zpracovatel
D60: Datum a podpis: | V60: Razítko | AH60: Datum a podpis: | AM60: Razítko
D64: Objednavatel | AH64: Zhotovitel
D75: Datum a podpis: | V75: Razítko | AH75: Datum a podpis: | AM75: Razítko
C82: REKAPITULACE OBJEKTŮ STAVBY A SOUPISŮ PRACÍ
C84: Kód: | L84: =K5 -> VP50058K
C85: Stavba: | L85: =K6 -> Gymnázium Přelouč - odvětrání kanalizace, přeložka ZTI
C87: Místo: | L87: =IF(K8="","",K8) | AI87: Datum: | AM87: =IF(AN8= "","",AN8) -> 1. 9. 2026
C89: Zadavatel: | L89: =IF(E11= "","",E11) | AI89: Projektant: | AM89: =IF(E17="","",E17) | AS89: Informatívní údaje z listů zakázek
C90: Zhotovitel: | L90: =IF(E14="","",E14) -> Instal Hanousek s.r.o | AI90: Zpracovatel: | AM90: =IF(E20="","",E20) -> Kolisková Karolína
C92: Kód | I92: Popis | AG92: Cena bez DPH [CZK] | AN92: Cena s DPH [CZK] | AQ92: Typ | AS92: z toho Ostat. náklady [CZK] | AT92: DPH [CZK] | AU92: Normohodiny [h] | AV92: DPH základní [CZK] | AW92: DPH snížená [CZK] | AX92: DPH základní přenesená [CZK] | AY92: DPH snížená přenesená [CZK] | AZ92: Základna DPH základní | BA92: Základna DPH snížená | BB92: Základna DPH zákl. přenesená | BC92: Základna DPH sníž. přenesená | BD92: Základna DPH nulová
...

Sheet VP50058K - GYGR Přel...
L2: >> skryté sloupce << | AT2: {896d06b6-9aca-45ee-9d7a-0439e64f0067}
AT3: 2
D4: Příloha č. 6: Položkový rozpočet - Výkaz výměr | M4: v --- níže se nacházejí doplnkové a pomocné údaje k sestavám --- v | AT4: False
D6: Stavba:
E7: Gymnázium a grafická SOŠ Přelouč - přeložka TZI a odvětrání kanalizace
D9: KSO: | I9: CC-CZ:
D10: Místo: | F10: Obránců míru 1025, Přelouč | I10: Datum:
D12: Zadavatel: | F12: Gymnázium a grafická SOŠ Přelouč | I12: IČ: | J12: =IF('Rekapitulace stavby'!AN10="","",'Rekapitulace stavby'!AN10)
E13: =IF('Rekapitulace stavby'!E11="","",'Rekapitulace stavby'!E11) | I13: DIČ: | J13: =IF('Rekapitulace stavby'!AN11="","",'Rekapitulace stavby'!AN11)
D15: Zhotovitel: | I15: IČ:
I16: DIČ:
D18: Projektant: | I18: IČ: | J18: =IF('Rekapitulace stavby'!AN16="","",'Rekapitulace stavby'!AN16)
E19: =IF('Rekapitulace stavby'!E17="","",'Rekapitulace stavby'!E17) | I19: DIČ: | J19: =IF('Rekapitulace stavby'!AN17="","",'Rekapitulace stavby'!AN17)
D21: Zpracovatel: | I21: IČ:
I22: DIČ:
D24: Poznámka:
D28: Cena bez DPH | J28: =ROUND(J118, 2) -> 0
F30: Základ daně | I30: Sazba daně | J30: Výše daně
D31: DPH | E31: základní | F31: =ROUND((SUM(BE118:BE178)), 2) -> 0 | I31: 0.21 | J31: =ROUND(((SUM(BE118:BE178))*I31), 2) -> 0
E32: snížená | F32: =ROUND((SUM(BF118:BF178)), 2) -> 0 | I32: 0.12 | J32: =ROUND(((SUM(BF118:BF178))*I32), 2) -> 0
E33: zákl. přenesená | F33: =ROUND((SUM(BG118:BG178)), 2) -> 0 | I33: 0.21 | J33: =0 -> 0
E34: sníž. přenesená | F34: =ROUND((SUM(BH118:BH178)), 2) -> 0 | I34: 0.12 | J34: =0 -> 0
E35: nulová | F35: =ROUND((SUM(BI118:BI178)), 2) -> 0 | I35: 0 | J35: =0 -> 0
D37: Cena s DPH | G37: v | H37: CZK | J37: =SUM(J28:J35) -> 0
D50: Projektant | G50: Zpracovatel
D61: Datum a podpis: | F61: Razítko | G61: Datum a podpis: | J61: Razítko
D65: Objednavatel | G65: Zhotovitel
D76: Datum a podpis: | F76: Razítko | G76: Datum a podpis: | J76: Razítko
C82: REKAPITULACE ČLENĚNÍ SOUPISU PRACÍ
C84: Stavba:
E85: =E7 -> Gymnázium a grafická SOŠ Přelouč - přeložka TZI a odvětrání kanalizace
C87: Místo: | F87: =F10 -> Obránců míru 1025, Přelouč | I87: Datum: | J87: =IF(J10="","",J10)
C89: Zadavatel: | F89: =E13 | I89: Projektant: | J89: =E19
C90: Zhotovitel: | F90: =IF(E16="","",E16) | I90: Zpracovatel: | J90: =E22 -> 0
C92: Kód dílu - Popis | J92: Cena celkem [CZK]
C94: Náklady ze soupisu prací | J94: =J118 -> 0 | AU94: -1
D95: PSV - Práce a dodávky PSV | J95: =J119 -> 0
D96: 721 - Zdravotechnika - vnitřní kanalizace | J96: =J120 -> 0
D97: 765 - Krytina skládaná | J97: =J129 -> 0
D98: 722 - Zdravotechnika - vnitřní vodovod | J98: =J137 -> 0
...
